BEGIN:VCALENDAR
VERSION:2.0
PRODID:-//Federación Colombiana de Canotaje - ECPv6.2.8.2//NONSGML v1.0//EN
CALSCALE:GREGORIAN
METHOD:PUBLISH
X-WR-CALNAME:Federación Colombiana de Canotaje
X-ORIGINAL-URL:https://fedecanotajecolombia.com
X-WR-CALDESC:Eventos para Federación Colombiana de Canotaje
REFRESH-INTERVAL;VALUE=DURATION:PT1H
X-Robots-Tag:noindex
X-PUBLISHED-TTL:PT1H
BEGIN:VTIMEZONE
TZID:UTC
BEGIN:STANDARD
TZOFFSETFROM:+0000
TZOFFSETTO:+0000
TZNAME:UTC
DTSTART:20240101T000000
END:STANDARD
END:VTIMEZONE
BEGIN:VEVENT
DTSTART;VALUE=DATE:20240301
DTEND;VALUE=DATE:20250531
DTSTAMP:20260419T102101
CREATED:20231211T180000Z
LAST-MODIFIED:20240304T112711Z
UID:10000003-1709251200-1748649599@fedecanotajecolombia.com
SUMMARY:Capacitaciones de Juzgamiento en diferentes modalidades del canotaje
DESCRIPTION:Capacitación
URL:https://fedecanotajecolombia.com/event/capacitaciones-de-juzgamiento-en-diferentes-modalidades-del-canotaje/
LOCATION:San Gil\, San Gil\, San Gil\, Santander
END:VEVENT
END:VCALENDAR