BEGIN:VCALENDAR
VERSION:2.0
PRODID:-//Federación Colombiana de Canotaje - ECPv6.2.8.2//NONSGML v1.0//EN
CALSCALE:GREGORIAN
METHOD:PUBLISH
X-WR-CALNAME:Federación Colombiana de Canotaje
X-ORIGINAL-URL:https://fedecanotajecolombia.com
X-WR-CALDESC:Eventos para Federación Colombiana de Canotaje
REFRESH-INTERVAL;VALUE=DURATION:PT1H
X-Robots-Tag:noindex
X-PUBLISHED-TTL:PT1H
BEGIN:VTIMEZONE
TZID:UTC
BEGIN:STANDARD
TZOFFSETFROM:+0000
TZOFFSETTO:+0000
TZNAME:UTC
DTSTART:20240101T000000
END:STANDARD
TZID:America/Bogota
BEGIN:STANDARD
TZOFFSETFROM:-0500
TZOFFSETTO:-0500
TZNAME:-05
DTSTART:20240101T000000
END:STANDARD
END:VTIMEZONE
BEGIN:VEVENT
DTSTART;VALUE=DATE:20240301
DTEND;VALUE=DATE:20250531
DTSTAMP:20260424T050022
CREATED:20231211T180000Z
LAST-MODIFIED:20240304T112711Z
UID:10000003-1709251200-1748649599@fedecanotajecolombia.com
SUMMARY:Capacitaciones de Juzgamiento en diferentes modalidades del canotaje
DESCRIPTION:Capacitación
URL:https://fedecanotajecolombia.com/event/capacitaciones-de-juzgamiento-en-diferentes-modalidades-del-canotaje/
LOCATION:San Gil\, San Gil\, San Gil\, Santander
END:VEVENT
BEGIN:VEVENT
DTSTART;VALUE=DATE:20240319
DTEND;VALUE=DATE:20250101
DTSTAMP:20260424T050022
CREATED:20231205T231634Z
LAST-MODIFIED:20240304T112655Z
UID:10000001-1710806400-1735689599@fedecanotajecolombia.com
SUMMARY:Capacitación de  Entrenadores Velocidad\, Slalom\, Rafting\, Kayak Polo y Directivos
DESCRIPTION:Capacitación
URL:https://fedecanotajecolombia.com/event/capacitacion-de-entrenadores-velocidad-slalom-rafting-kayak-polo-y-directivos/
END:VEVENT
BEGIN:VEVENT
DTSTART;VALUE=DATE:20240901
DTEND;VALUE=DATE:20241001
DTSTAMP:20260424T050022
CREATED:20240304T212025Z
LAST-MODIFIED:20240304T212025Z
UID:10000014-1725148800-1727740799@fedecanotajecolombia.com
SUMMARY:Campeonato  Nacional Interligas Canotaje y  Paracanotaje
DESCRIPTION:Calendario Nacional
URL:https://fedecanotajecolombia.com/event/campeonato-nacional-interligas-canotaje-y-paracanotaje/
CATEGORIES:Abierta
END:VEVENT
BEGIN:VEVENT
DTSTART;TZID=America/Bogota:20240901T080000
DTEND;TZID=America/Bogota:20240930T170000
DTSTAMP:20260424T050022
CREATED:20240304T211651Z
LAST-MODIFIED:20240304T211709Z
UID:10000011-1725177600-1727715600@fedecanotajecolombia.com
SUMMARY:Copa Colombia de Slalom
DESCRIPTION:Calendario Nacional
URL:https://fedecanotajecolombia.com/event/copa-colombia-de-slalom/
CATEGORIES:Abierta
END:VEVENT
END:VCALENDAR